BEGIN:VCALENDAR
VERSION:2.0
PRODID:-//CERN//INDICO//EN
BEGIN:VEVENT
SUMMARY:Tides and motions in planetary systems
DTSTART:20260408T080000Z
DTEND:20260410T160000Z
DTSTAMP:20260420T134800Z
UID:indico-event-2994@indico.obspm.fr
CONTACT:Alain.Albouy@obspm.fr\;Philippe.Robutel@obspm.fr\;Bruno.Sicardy@ob
 spm.fr\;2126
DESCRIPTION:VOIR LA NOUVELLE PAGE :\nhttps://indico.obspm.fr/event/2996/\n
  \nColloque en l'honneur de Sylvio Ferraz-Mello\nOrganisé par Alain Albo
 uy\, Philippe Robutel et Bruno Sicardy\nLaboratoire Temps Espace\nCentre d
 e conférences Jules Janssen\nAstrogeo\n\nhttps://indico.obspm.fr/event/29
 94/
LOCATION:Salle du Conseil\, salle Denisse (PARIS)
URL:https://indico.obspm.fr/event/2994/
END:VEVENT
END:VCALENDAR
